Workbook

Sheet Uitleg
B1: Handleiding en Uitleg Dimensies
B2: Instructie
B3: Partner A: Open tabblad 'Partner A'; vul je naam in en geef een score van 1 (laag) tot 10 (hoog) bij elke dimensie.
B4: Partner B: Open tabblad 'Partner B'; vul je naam in en geef een score van 1 (laag) tot 10 (hoog) bij elke dimensie.
B5: In het tabblad 'Rapport' worden de resultaten weergegeven in de vorm van radargrafieken.
B6: Lees de 'Aanbevolen acties' in het Actieplan onderaan het tabblad 'Rapport' en volg deze op.
B8: Dimensie | C8: Uitleg
B9: Behoefte aan seksuele variatie | C9: De mate waarin variatie en nieuwheid in je seksuele ervaring belangrijk voor je is.
B10: Belang van emotionele verbondenheid | C10: De mate waarin emotionele nabijheid en intimiteit voor jou een voorwaarde zijn voor seks.
B11: Jaloezie / possessiviteit | C11: Jouw mate van jaloezie en neiging om je partner voor jezelf op te eisen.
B12: Acceptatie van non-monogamie | C12: De mate waarin je open staat voor seks buiten je eigen relatie.
B13: Seksuele drang / frequentiebehoefte | C13: De gewenste frequentie en intensiteit van seks.
B14: Invloed van opvoeding en omgeving | C14: De mate waarin jouw opvoeding en omgeving je beeld met betrekking tot seks bepalen.
B15: Religieuze of morele restricties | C15: De beperkingen vanuit geloof of morele overtuigingen.
B16: Scheiding tussen liefde en lust | C16: Jouw vermogen om seks volledig los te zien van verliefdheid
B17: Rol van vriendschap en intellectuele klik | C17: De mate waarin jij vriendschap en mentale klik nodig hebt voor seksuele aantrekkingskracht.
B18: Grenzen verleggen / experimenteerbereidheid | C18: Jouw bereidheid om grenzen met betrekking tot seks te verkennen en te verleggen.
B19: Ego versus zorgzaamheid | C19: De mate waarin jouw eigen genot belangrijker is dan het genot van je partner bij seks.
... B22: Fantasieën delen met partner | C22: Je bereidheid om in alle openheid met je partner seksuele fantasieën te bespreken en te delen.
B26: Versienr. 3.0
B27: Versiedatum: 12-AUG-2025

Sheet Partner A
B1: Partner A
B2: Je naam
B4: Dimensie | C4: Score (1-10)
B5: Behoefte aan seksuele variatie
B6: Belang van emotionele verbondenheid
B7: Jaloezie / possessiviteit
B8: Acceptatie van non-monogamie
B9: Seksuele drang / frequentiebehoefte
B10: Invloed van opvoeding en omgeving
B11: Religieuze of morele restricties
B12: Scheiding tussen liefde en lust
B13: Rol van vriendschap en intellectuele klik
B14: Grenzen verleggen / experimenteerbereidheid
B15: Ego versus zorgzaamheid
B16: Lichamelijk zelfbeeld / zelfvertrouwen
... B20: Vul je naam in en geef een score van 1 (laag) tot 10 (hoog) bij elke dimensie

Sheet Partner B
B1: Partner B
B2: Je naam
B4: Dimensie | C4: Score (1-10)
B5: Behoefte aan seksuele variatie
B6: Belang van emotionele verbondenheid
B7: Jaloezie / possessiviteit
B8: Acceptatie van non-monogamie
B9: Seksuele drang / frequentiebehoefte
B10: Invloed van opvoeding en omgeving
B11: Religieuze of morele restricties
B12: Scheiding tussen liefde en lust
B13: Rol van vriendschap en intellectuele klik
B14: Grenzen verleggen / experimenteerbereidheid
B15: Ego versus zorgzaamheid
B16: Lichamelijk zelfbeeld / zelfvertrouwen
... B20: Vul je naam in en geef een score van 1 (laag) tot 10 (hoog) bij elke dimensie

Sheet Rapport
B1: Rapport: Profielen en Verschillen
AA11: Behoefte aan seksuele variatie
G12: ACTIEPLAN | AA12: Belang van emotionele verbondenheid
AA13: Jaloezie / possessiviteit
G14: Dimensie | H14: ='Partner A'!$C$2 -> 0 | I14: ='Partner B'!$C$2 -> 0 | J14: Verschil | K14: Aanbevolen actie | AA14: Acceptatie van non-monogamie
G15: Behoefte aan seksuele variatie | H15: ='Partner A'!$C$5 -> 0 | I15: ='Partner B'!$C$5 -> 0 | J15: =IF(OR(H15="",I15=""),"",ABS(H15-I15)) -> 0 | K15: =IF(J15="","",IF(J15>=6,"Hoog risico – plan gericht gesprek",IF(J15>=4,"Bespreken – afspraken maken",IF(J15>=2,"Van gedachten wisselen",IF(J15=0,"","Laag – monitoren"))))) | AA15: Seksuele drang / frequentiebehoefte
G16: Belang van emotionele verbondenheid | H16: ='Partner A'!$C$6 -> 0 | I16: ='Partner B'!$C$6 -> 0 | J16: =IF(OR(H16="",I16=""),"",ABS(H16-I16)) -> 0 | K16: =IF(J16="","",IF(J16>=6,"Hoog risico – plan gericht gesprek",IF(J16>=4,"Bespreken – afspraken maken",IF(J16>=2,"Van gedachten wisselen",IF(J16=0,"","Laag – monitoren"))))) | AA16: Invloed van opvoeding en omgeving
G17: Jaloezie / possessiviteit | H17: ='Partner A'!$C$7 -> 0 | I17: ='Partner B'!$C$7 -> 0 | J17: =IF(OR(H17="",I17=""),"",ABS(H17-I17)) -> 0 | K17: =IF(J17="","",IF(J17>=6,"Hoog risico – plan gericht gesprek",IF(J17>=4,"Bespreken – afspraken maken",IF(J17>=2,"Van gedachten wisselen",IF(J17=0,"","Laag – monitoren"))))) | AA17: Religieuze of morele restricties
G18: Acceptatie van non-monogamie | H18: ='Partner A'!$C$8 -> 0 | I18: ='Partner B'!$C$8 -> 0 | J18: =IF(OR(H18="",I18=""),"",ABS(H18-I18)) -> 0 | K18: =IF(J18="","",IF(J18>=6,"Hoog risico – plan gericht gesprek",IF(J18>=4,"Bespreken – afspraken maken",IF(J18>=2,"Van gedachten wisselen",IF(J18=0,"","Laag – monitoren"))))) | AA18: Scheiding tussen liefde en lust
G19: Seksuele drang / frequentiebehoefte | H19: ='Partner A'!$C$9 -> 0 | I19: ='Partner B'!$C$9 -> 0 | J19: =IF(OR(H19="",I19=""),"",ABS(H19-I19)) -> 0 | K19: =IF(J19="","",IF(J19>=6,"Hoog risico – plan gericht gesprek",IF(J19>=4,"Bespreken – afspraken maken",IF(J19>=2,"Van gedachten wisselen",IF(J19=0,"","Laag – monitoren"))))) | AA19: Rol van vriendschap en intellectuele klik
G20: Invloed van opvoeding en omgeving | H20: ='Partner A'!$C$10 -> 0 | I20: ='Partner B'!$C$10 -> 0 | J20: =IF(OR(H20="",I20=""),"",ABS(H20-I20)) -> 0 | K20: =IF(J20="","",IF(J20>=6,"Hoog risico – plan gericht gesprek",IF(J20>=4,"Bespreken – afspraken maken",IF(J20>=2,"Van gedachten wisselen",IF(J20=0,"","Laag – monitoren"))))) | AA20: Grenzen verleggen / experimenteerbereidheid
G21: Religieuze of morele restricties | H21: ='Partner A'!$C$11 -> 0 | I21: ='Partner B'!$C$11 -> 0 | J21: =IF(OR(H21="",I21=""),"",ABS(H21-I21)) -> 0 | K21: =IF(J21="","",IF(J21>=6,"Hoog risico – plan gericht gesprek",IF(J21>=4,"Bespreken – afspraken maken",IF(J21>=2,"Van gedachten wisselen",IF(J21=0,"","Laag – monitoren"))))) | AA21: Ego versus zorgzaamheid
G22: Scheiding tussen liefde en lust | H22: ='Partner A'!$C$12 -> 0 | I22: ='Partner B'!$C$12 -> 0 | J22: =IF(OR(H22="",I22=""),"",ABS(H22-I22)) -> 0 | K22: =IF(J22="","",IF(J22>=6,"Hoog risico – plan gericht gesprek",IF(J22>=4,"Bespreken – afspraken maken",IF(J22>=2,"Van gedachten wisselen",IF(J22=0,"","Laag – monitoren"))))) | AA22: Lichamelijk zelfbeeld / zelfvertrouwen
G23: Rol van vriendschap en intellectuele klik | H23: ='Partner A'!$C$13 -> 0 | I23: ='Partner B'!$C$13 -> 0 | J23: =IF(OR(H23="",I23=""),"",ABS(H23-I23)) -> 0 | K23: =IF(J23="","",IF(J23>=6,"Hoog risico – plan gericht gesprek",IF(J23>=4,"Bespreken – afspraken maken",IF(J23>=2,"Van gedachten wisselen",IF(J23=0,"","Laag – monitoren"))))) | AA23: Romantische setting / sfeerbehoefte
G24: Grenzen verleggen / experimenteerbereidheid | H24: ='Partner A'!$C$14 -> 0 | I24: ='Partner B'!$C$14 -> 0 | J24: =IF(OR(H24="",I24=""),"",ABS(H24-I24)) -> 0 | K24: =IF(J24="","",IF(J24>=6,"Hoog risico – plan gericht gesprek",IF(J24>=4,"Bespreken – afspraken maken",IF(J24>=2,"Van gedachten wisselen",IF(J24=0,"","Laag – monitoren"))))) | AA24: Fantasieën delen met partner
G25: Ego versus zorgzaamheid | H25: ='Partner A'!$C$15 -> 0 | I25: ='Partner B'!$C$15 -> 0 | J25: =IF(OR(H25="",I25=""),"",ABS(H25-I25)) -> 0 | K25: =IF(J25="","",IF(J25>=6,"Hoog risico – plan gericht gesprek",IF(J25>=4,"Bespreken – afspraken maken",IF(J25>=2,"Van gedachten wisselen",IF(J25=0,"","Laag – monitoren")))))
G26: Lichamelijk zelfbeeld / zelfvertrouwen | H26: ='Partner A'!$C$16 -> 0 | I26: ='Partner B'!$C$16 -> 0 | J26: =IF(OR(H26="",I26=""),"",ABS(H26-I26)) -> 0 | K26: =IF(J26="","",IF(J26>=6,"Hoog risico – plan gericht gesprek",IF(J26>=4,"Bespreken – afspraken maken",IF(J26>=2,"Van gedachten wisselen",IF(J26=0,"","Laag – monitoren")))))
G27: Romantische setting / sfeerbehoefte | H27: ='Partner A'!$C$17 -> 0 | I27: ='Partner B'!$C$17 -> 0 | J27: =IF(OR(H27="",I27=""),"",ABS(H27-I27)) -> 0 | K27: =IF(J27="","",IF(J27>=6,"Hoog risico – plan gericht gesprek",IF(J27>=4,"Bespreken – afspraken maken",IF(J27>=2,"Van gedachten wisselen",IF(J27=0,"","Laag – monitoren")))))
G28: Fantasieën delen met partner | H28: ='Partner A'!$C$18 -> 0 | I28: ='Partner B'!$C$18 -> 0 | J28: =IF(OR(H28="",I28=""),"",ABS(H28-I28)) -> 0 | K28: =IF(J28="","",IF(J28>=6,"Hoog risico – plan gericht gesprek",IF(J28>=4,"Bespreken – afspraken maken",IF(J28>=2,"Van gedachten wisselen",IF(J28=0,"","Laag – monitoren")))))
